BEGIN:VCALENDAR
VERSION:2.0
PRODID:-//Welcome to E.A.S.T. Institute - ECPv6.15.20//NONSGML v1.0//EN
CALSCALE:GREGORIAN
METHOD:PUBLISH
X-ORIGINAL-URL:https://east-institute.org
X-WR-CALDESC:Evenementen voor Welcome to E.A.S.T. Institute
REFRESH-INTERVAL;VALUE=DURATION:PT1H
X-Robots-Tag:noindex
X-PUBLISHED-TTL:PT1H
BEGIN:VTIMEZONE
TZID:Europe/Brussels
BEGIN:DAYLIGHT
TZOFFSETFROM:+0100
TZOFFSETTO:+0200
TZNAME:CEST
DTSTART:20250330T010000
END:DAYLIGHT
BEGIN:STANDARD
TZOFFSETFROM:+0200
TZOFFSETTO:+0100
TZNAME:CET
DTSTART:20251026T010000
END:STANDARD
BEGIN:DAYLIGHT
TZOFFSETFROM:+0100
TZOFFSETTO:+0200
TZNAME:CEST
DTSTART:20260329T010000
END:DAYLIGHT
BEGIN:STANDARD
TZOFFSETFROM:+0200
TZOFFSETTO:+0100
TZNAME:CET
DTSTART:20261025T010000
END:STANDARD
BEGIN:DAYLIGHT
TZOFFSETFROM:+0100
TZOFFSETTO:+0200
TZNAME:CEST
DTSTART:20270328T010000
END:DAYLIGHT
BEGIN:STANDARD
TZOFFSETFROM:+0200
TZOFFSETTO:+0100
TZNAME:CET
DTSTART:20271031T010000
END:STANDARD
END:VTIMEZONE
BEGIN:VEVENT
DTSTART;TZID=Europe/Brussels:20260418T100000
DTEND;TZID=Europe/Brussels:20260418T130000
DTSTAMP:20260424T163242
CREATED:20260402T213353Z
LAST-MODIFIED:20260402T213353Z
UID:10000020-1776506400-1776517200@east-institute.org
SUMMARY:Familie opstelling
DESCRIPTION:In kleine groep onderzoeken we of ons energieverlies in bepaalde situaties verband houdt met onze familiegeschiedenis. Trauma’s in een vorige generatie kunnen immers zorgen voor blokkades in de energiestroom van de huidige generatie. Een familieopstelling maakt deze vaak onbewuste trauma’s zichtbaar. Deze bewustwording is een eerste stap naar het herstel van verbondenheid met onze voorouders. Wanneer de kracht van onze voorouders ongehinderd mag stromen ervaren we meer levenslust en vreugde.\n\nDe technieken van de E.A.S.T.methode worden hier gebruikt als ondersteuning in het transformatieproces.  Het wordt mogelijk in ‘het hier en nu’ anders te kijken naar dat wat ons remt.\n\nMeer info en inschrijving: Leen.vancamp@east-institute.org\n\n\nprijs: vrije bijdrage\, richtwaarde 35€
URL:https://east-institute.org/event/familie-opstelling-3/
LOCATION:Lemen huisje Vremde – Belgie\, Broederlozestraat 100\, Vremde\, 2531\, Belgium
CATEGORIES:Famillie Opstelling
ATTACH;FMTTYPE=image/webp:https://east-institute.org/wp-content/uploads/2026/01/Wat-doe-ik-hier-300x200-1.webp
ORGANIZER;CN="Leen Van Camp":MAILTO:leen.vancamp@east-institute.org
END:VEVENT
BEGIN:VEVENT
DTSTART;TZID=Europe/Brussels:20260425T100000
DTEND;TZID=Europe/Brussels:20260425T130000
DTSTAMP:20260424T163242
CREATED:20260201T212024Z
LAST-MODIFIED:20260201T212845Z
UID:10000018-1777111200-1777122000@east-institute.org
SUMMARY:eNRBi eNRCom Basistechnieken verdiepen (Vremde)
DESCRIPTION:Een moment om vragen te stellen indien je graag specifieke zaken nader wil onderzoeken. Afhankelijk van de aanwezigen zullen we technieken van eNRBi I / II / III  of eNRCom herhalen en verdiepen. We richten ons steeds op het verhogen van ons energieniveau. Zowel individueel als met partner. Je bent van harte welkom. \nWe beginnen om 10 uur en ronden af rond één uur. \nPrijs: Vrije bijdrage\, richtprijs 35 euro. \nLaat zeker weten als je komt. \nWarme groet \nRuben Eeckhout
URL:https://east-institute.org/event/enrbi-enrcom-basistechnieken-verdiepen-vremde-2/
LOCATION:Lemen huisje Vremde – Belgie\, Broederlozestraat 100\, Vremde\, 2531\, Belgium
CATEGORIES:eNRBi
ORGANIZER;CN="Ruben Eeckhout":MAILTO:ruben.eeckhout@east-institute.org
END:VEVENT
BEGIN:VEVENT
DTSTART;TZID=Europe/Brussels:20260430T100000
DTEND;TZID=Europe/Brussels:20260430T130000
DTSTAMP:20260424T163242
CREATED:20260402T213545Z
LAST-MODIFIED:20260402T213545Z
UID:10000021-1777543200-1777554000@east-institute.org
SUMMARY:Familie opstelling
DESCRIPTION:In kleine groep onderzoeken we of ons energieverlies in bepaalde situaties verband houdt met onze familiegeschiedenis. Trauma’s in een vorige generatie kunnen immers zorgen voor blokkades in de energiestroom van de huidige generatie. Een familieopstelling maakt deze vaak onbewuste trauma’s zichtbaar. Deze bewustwording is een eerste stap naar het herstel van verbondenheid met onze voorouders. Wanneer de kracht van onze voorouders ongehinderd mag stromen ervaren we meer levenslust en vreugde.\n\nDe technieken van de E.A.S.T.methode worden hier gebruikt als ondersteuning in het transformatieproces.  Het wordt mogelijk in ‘het hier en nu’ anders te kijken naar dat wat ons remt.\n\nMeer info en inschrijving: Leen.vancamp@east-institute.org\n\n\nprijs: vrije bijdrage\, richtwaarde 35€
URL:https://east-institute.org/event/familie-opstelling-4/
LOCATION:Lemen huisje Vremde – Belgie\, Broederlozestraat 100\, Vremde\, 2531\, Belgium
CATEGORIES:Famillie Opstelling
ATTACH;FMTTYPE=image/webp:https://east-institute.org/wp-content/uploads/2026/01/Wat-doe-ik-hier-300x200-1.webp
ORGANIZER;CN="Leen Van Camp":MAILTO:leen.vancamp@east-institute.org
END:VEVENT
BEGIN:VEVENT
DTSTART;TZID=Europe/Brussels:20260501T090000
DTEND;TZID=Europe/Brussels:20260503T170000
DTSTAMP:20260424T163242
CREATED:20260226T150218Z
LAST-MODIFIED:20260302T084253Z
UID:10000019-1777626000-1777827600@east-institute.org
SUMMARY:Voorbij het lichaam
DESCRIPTION:Ontdek hoe beweging je energie opent en je terugbrengt naar wie je werkelijk bent.\n“Je bent meer dan je lichaam. Je bent meer dan je gedachten of emoties. Je bent een veld van energie en bewustzijn dat oneindig beweegt. Dit driedaagse seminar is een reis naar jouw essentie\, geïnspireerd door sjamanisme\, taoïsme\, krijgskunsten en de oeroude kennis van het regenwoud. Via innerlijke beweging en subtiele waarneming ontdek je wie je werkelijk bent. Laat het fysieke los en stap in de ruimte van pure aanwezigheid.” \n“We zijn meer dan een fysiek lichaam.”   \nJef Crab \n“Beweging is de oorzaak van het leven.” \nLeonardo Da Vinci \nAl voor we geboren worden\, bewegen we.\nBeweging is de aard van ons wezen.  Als kind spelen we vrij\, in onze eigen werelden. Vrije beweging vormt de basis van ons welbevinden en “in vorm zijn”. \nMaar wat betekent dat eigenlijk? Wat is die vorm waardoor we ons zo lekker in ons vel voelen?\nHet ervaren én bewust toepassen van die vorm is het onderwerp van Voorbij het lichaam. Want we zijn veel meer dan een fysiek lichaam. \nWe zijn energie en bewustzijn. Dat is geen geloof\, geen theorie\, geen spiritualiteit… Je moet het ervaren. Zodra je dat weer ervaart\, openen zich opnieuw zovele werelden en mogelijkheden voor jou. \nIn onze moderne samenleving is de natuurlijke relatie tussen voelen en bewegen grotendeels verdwenen. Bijna alles wordt benaderd vanuit het hoofd\, cognitief en rationeel. Het zogenaamde volwassen leven maakt dat we onze oorspronkelijke vorm en de werelden die we als kind zo vaak betraden nog meer uit het oog verliezen. \nTijdens deze dagen ervaar je hoe eenvoudige bewegingen je energie verhogen en je terugbrengen in jouw natuurlijke vorm. Dit is geen reeks gewone lichaamsoefeningen. Het gaat om het herontdekken van wie of wat we werkelijk zijn. Voorbij het lichaam\, voorbij de materie.\nJij bent “in vorm” wanneer je verbinding maakt met je energie en je bewustzijn\, en beweegt vanuit je authentieke zijn. \nEn dat is voor iedereen bereikbaar. \nDurf voorbij het lichaam te gaan. Ontdek de vrijheid van beweging\, voel je energie stromen en kom thuis in jouw authentieke vorm. Het begint met één stap – jouw stap. \nKies zelf hoeveel dagen je wenst deel te nemen: 1\, 2 of 3. Ook als je inschrijft voor maar 1 dag\, mag je na dag 1 beslissen om dag 2 ook te volgen en zelfs daarna dag 3… Voel je vrij! WELKOM. \nBegeleiding\n  \nFounder Trainer\nJef Crab is een bruggenbouwer tussen oude wijsheid en moderne bewustzijn. Hij werkt sinds 1993 met inheemse gemeenschappen nabij het Amazonewoud en is diep ingewijd in sjamanistische tradities. Zijn werk integreert ecologie\, bewustzijn en beweging\, met wortels in taoïsme en krijgskunsten. \n  \n  \n  \nCo-Founder Trainer\nNatascha Neus brengt een verfijnde gevoeligheid voor innerlijk werk en energetische balans. Haar begeleiding is zacht en krachtig tegelijk\, met een focus op het herstellen van de natuurlijke verbinding tussen lichaam\, energie en bewustzijn. Samen creëren zij een veilige ruimte waarin transformatie en herontdekking mogelijk worden. \n  \n  \n  \nZij brengen geen nieuwe theorie\, maar een ervaringsgerichte ontdekkingstocht. Je ervaart dat je niet beperkt bent tot een fysiek lichaam\, maar een veld van energie en bewustzijn bent. Door eenvoudige oefeningen en onderzoek ontdek je jouw energetische structuur en open je poorten naar een diepere realiteit. Dit is voor iedereen beschikbaar. \n  \nBijdrage: per dag € 90\,-  twee dagen €160\,-   drie dagen € 210\,-
URL:https://east-institute.org/event/voorbij-het-lichaam/
LOCATION:Expo De Wal in Hamont-Achel\, Wal 22\, Hamont-Achel\, Limburg\, 3930\, Belgium
CATEGORIES:Workshop
ATTACH;FMTTYPE=image/webp:https://east-institute.org/wp-content/uploads/2026/02/Jef-Natascha-Albert-300x200-1.webp
ORGANIZER;CN="Jef Crab":MAILTO:jef.crab@east-institute.org
END:VEVENT
BEGIN:VEVENT
DTSTART;TZID=Europe/Brussels:20260504T190000
DTEND;TZID=Europe/Brussels:20260504T220000
DTSTAMP:20260424T163242
CREATED:20260412T084433Z
LAST-MODIFIED:20260412T090647Z
UID:10000023-1777921200-1777932000@east-institute.org
SUMMARY:Kennisoverdracht en heling door klank en ervaring
DESCRIPTION:Tussen Belthane en Midzomer ontwaakt de rijzende zonnekracht: een oerstroom van vitaliteit\, helderheid en scheppende levenswil. \n  In deze heilige weken klimt het zonlicht elke dag hoger\, en met die groeiende lichtspanning worden ook onze eigen innerlijke vermogens aangescherpt: intuïtie wordt helderder\, creatiekracht stroomt vrijer en het hart opent zich voor vreugde\, verbondenheid en moed. Dit is de periode waarin plannen wortelschieten\, dromen richting krijgen en de ziel het vuur voelt om werkelijk tot bloei te komen. Wie zich in deze tijd afstemt op de zonnekracht\, leert niet alleen haar warmte te ontvangen\, maar ook die vurige levensimpuls te laten kiemen voor de eigen innerlijke kracht en ontwikkeling. \nSjamanen zijn bij uitstek de reizigers tussen de zichtbare en onzichtbare werelden\, maar ieder die dit wil kan dit ervaren. In deze avond maken we een eerste aanvang met De kracht van de rijzende kracht van de zon.  \nWelke menselijke vermogens zijn daarbij betrokken? Hoe kunnen we deze verder ontwikkelen?\nWat betekent dat voor mijn dagelijkse leven? \nVerwacht een avond van klank\, ervaring en diepe verbinding met oeroude kennis. \nBegeleiding: Jef Crab (Joshua Raven)   \n“Life is my hobby.” — Jef Crab\nEen levenslange bruggenbouwer tussen oude wijsheid en moderne bewustzijn. Jef bewandelt een unieke weg\, gevormd door decennia van onderdompeling in inheemse tradities\, sociaal en ecologisch engagement en spirituele praktijk. Geïnitieerd in het sjamanisme door Jóska Soós de Sóvar\, leeft hij sinds 1993 nabij het Amazonewoud en werkt nauw samen met inheemse gemeenschappen. \nOprichter van o.a.: \n– Training Centre La Rencontre \n– Stichting Ecosystem 2000 \n– E.A.S.T.  Institute vzw \n– ALIVE School \n– Taiji School De Witte Wolken \n– Şaman Akademi & Master Class Shamanism \n  \nOver sjamanisme \nHet sjamanisme is het oudste en meest omvattende kennissysteem van de mensheid.  Geschreven wortels gaan terug tot Centraal-Azië\, meer dan 5.000 jaar voor onze jaartelling. De orale overdracht is veel ouder.  De kennis werd en wordt nog altijd van leraar naar leerling overgedragen en is primair gebaseerd op ervaring. Het sjamanisme kent geen organisaties of structuren en past zich constant aan de tijd en omgeving aan. \nDe Şaman Akademi is dus slechts een mogelijkheid waardoor de mensen in deze nieuwe tijd met de oorspronkelijke kennis opnieuw in aanraking kunnen komen en zich hierin kunnen verdiepen.  Het symbool met het Orkhon-runenschrift en Tuplar / Táltos  zijn uitdrukking van diepste dankbaarheid en respect voor mijn leraren en de voorgangers in de kennis.
URL:https://east-institute.org/event/kennisoverdracht-en-heling-door-klank-en-ervaring/
LOCATION:De Yurt in Heusden-Zolder\, Kuilberg 48\, Heusden-Zolder\, 3550\, Belgium
CATEGORIES:Klankschalen
ATTACH;FMTTYPE=image/webp:https://east-institute.org/wp-content/uploads/2026/04/Belthane-01.webp
ORGANIZER;CN="Jef Crab":MAILTO:jef.crab@east-institute.org
END:VEVENT
BEGIN:VEVENT
DTSTART;TZID=Europe/Brussels:20260507T190000
DTEND;TZID=Europe/Brussels:20260507T220000
DTSTAMP:20260424T163242
CREATED:20260412T090916Z
LAST-MODIFIED:20260412T090916Z
UID:10000024-1778180400-1778191200@east-institute.org
SUMMARY:Kennisoverdracht en heling door klank en ervaring
DESCRIPTION:Tussen Belthane en Midzomer ontwaakt de rijzende zonnekracht: een oerstroom van vitaliteit\, helderheid en scheppende levenswil. \n  In deze heilige weken klimt het zonlicht elke dag hoger\, en met die groeiende lichtspanning worden ook onze eigen innerlijke vermogens aangescherpt: intuïtie wordt helderder\, creatiekracht stroomt vrijer en het hart opent zich voor vreugde\, verbondenheid en moed. Dit is de periode waarin plannen wortelschieten\, dromen richting krijgen en de ziel het vuur voelt om werkelijk tot bloei te komen. Wie zich in deze tijd afstemt op de zonnekracht\, leert niet alleen haar warmte te ontvangen\, maar ook die vurige levensimpuls te laten kiemen voor de eigen innerlijke kracht en ontwikkeling. \nSjamanen zijn bij uitstek de reizigers tussen de zichtbare en onzichtbare werelden\, maar ieder die dit wil kan dit ervaren. In deze avond maken we een eerste aanvang met De kracht van de rijzende kracht van de zon.  \nWelke menselijke vermogens zijn daarbij betrokken? Hoe kunnen we deze verder ontwikkelen?\nWat betekent dat voor mijn dagelijkse leven? \nVerwacht een avond van klank\, ervaring en diepe verbinding met oeroude kennis. \nBegeleiding: Jef Crab (Joshua Raven)   \n“Life is my hobby.” — Jef Crab\nEen levenslange bruggenbouwer tussen oude wijsheid en moderne bewustzijn. Jef bewandelt een unieke weg\, gevormd door decennia van onderdompeling in inheemse tradities\, sociaal en ecologisch engagement en spirituele praktijk. Geïnitieerd in het sjamanisme door Jóska Soós de Sóvar\, leeft hij sinds 1993 nabij het Amazonewoud en werkt nauw samen met inheemse gemeenschappen. \nOprichter van o.a.: \n– Training Centre La Rencontre \n– Stichting Ecosystem 2000 \n– E.A.S.T.  Institute vzw \n– ALIVE School \n– Taiji School De Witte Wolken \n– Şaman Akademi & Master Class Shamanism \n  \nOver sjamanisme \nHet sjamanisme is het oudste en meest omvattende kennissysteem van de mensheid.  Geschreven wortels gaan terug tot Centraal-Azië\, meer dan 5.000 jaar voor onze jaartelling. De orale overdracht is veel ouder.  De kennis werd en wordt nog altijd van leraar naar leerling overgedragen en is primair gebaseerd op ervaring. Het sjamanisme kent geen organisaties of structuren en past zich constant aan de tijd en omgeving aan. \nDe Şaman Akademi is dus slechts een mogelijkheid waardoor de mensen in deze nieuwe tijd met de oorspronkelijke kennis opnieuw in aanraking kunnen komen en zich hierin kunnen verdiepen.  Het symbool met het Orkhon-runenschrift en Tuplar / Táltos  zijn uitdrukking van diepste dankbaarheid en respect voor mijn leraren en de voorgangers in de kennis.
URL:https://east-institute.org/event/kennisoverdracht-en-heling-door-klank-en-ervaring-2/
LOCATION:Praktijk Zomerhuis – Ekeren\, Statiestraat 9\, Ekeren\, 2180\, Belgium
CATEGORIES:Klankschalen
ATTACH;FMTTYPE=image/webp:https://east-institute.org/wp-content/uploads/2026/04/Belthane-01.webp
ORGANIZER;CN="Jef Crab":MAILTO:jef.crab@east-institute.org
END:VEVENT
BEGIN:VEVENT
DTSTART;TZID=Europe/Brussels:20260508T190000
DTEND;TZID=Europe/Brussels:20260508T220000
DTSTAMP:20260424T163242
CREATED:20260412T091000Z
LAST-MODIFIED:20260412T091000Z
UID:10000025-1778266800-1778277600@east-institute.org
SUMMARY:Kennisoverdracht en heling door klank en ervaring
DESCRIPTION:Tussen Belthane en Midzomer ontwaakt de rijzende zonnekracht: een oerstroom van vitaliteit\, helderheid en scheppende levenswil. \n  In deze heilige weken klimt het zonlicht elke dag hoger\, en met die groeiende lichtspanning worden ook onze eigen innerlijke vermogens aangescherpt: intuïtie wordt helderder\, creatiekracht stroomt vrijer en het hart opent zich voor vreugde\, verbondenheid en moed. Dit is de periode waarin plannen wortelschieten\, dromen richting krijgen en de ziel het vuur voelt om werkelijk tot bloei te komen. Wie zich in deze tijd afstemt op de zonnekracht\, leert niet alleen haar warmte te ontvangen\, maar ook die vurige levensimpuls te laten kiemen voor de eigen innerlijke kracht en ontwikkeling. \nSjamanen zijn bij uitstek de reizigers tussen de zichtbare en onzichtbare werelden\, maar ieder die dit wil kan dit ervaren. In deze avond maken we een eerste aanvang met De kracht van de rijzende kracht van de zon.  \nWelke menselijke vermogens zijn daarbij betrokken? Hoe kunnen we deze verder ontwikkelen?\nWat betekent dat voor mijn dagelijkse leven? \nVerwacht een avond van klank\, ervaring en diepe verbinding met oeroude kennis. \nBegeleiding: Jef Crab (Joshua Raven)   \n“Life is my hobby.” — Jef Crab\nEen levenslange bruggenbouwer tussen oude wijsheid en moderne bewustzijn. Jef bewandelt een unieke weg\, gevormd door decennia van onderdompeling in inheemse tradities\, sociaal en ecologisch engagement en spirituele praktijk. Geïnitieerd in het sjamanisme door Jóska Soós de Sóvar\, leeft hij sinds 1993 nabij het Amazonewoud en werkt nauw samen met inheemse gemeenschappen. \nOprichter van o.a.: \n– Training Centre La Rencontre \n– Stichting Ecosystem 2000 \n– E.A.S.T.  Institute vzw \n– ALIVE School \n– Taiji School De Witte Wolken \n– Şaman Akademi & Master Class Shamanism \n  \nOver sjamanisme \nHet sjamanisme is het oudste en meest omvattende kennissysteem van de mensheid.  Geschreven wortels gaan terug tot Centraal-Azië\, meer dan 5.000 jaar voor onze jaartelling. De orale overdracht is veel ouder.  De kennis werd en wordt nog altijd van leraar naar leerling overgedragen en is primair gebaseerd op ervaring. Het sjamanisme kent geen organisaties of structuren en past zich constant aan de tijd en omgeving aan. \nDe Şaman Akademi is dus slechts een mogelijkheid waardoor de mensen in deze nieuwe tijd met de oorspronkelijke kennis opnieuw in aanraking kunnen komen en zich hierin kunnen verdiepen.  Het symbool met het Orkhon-runenschrift en Tuplar / Táltos  zijn uitdrukking van diepste dankbaarheid en respect voor mijn leraren en de voorgangers in de kennis.
URL:https://east-institute.org/event/kennisoverdracht-en-heling-door-klank-en-ervaring-3/
LOCATION:Lemen huisje Vremde – Belgie\, Broederlozestraat 100\, Vremde\, 2531\, Belgium
CATEGORIES:Klankschalen
ATTACH;FMTTYPE=image/webp:https://east-institute.org/wp-content/uploads/2026/04/Belthane-01.webp
ORGANIZER;CN="Jef Crab":MAILTO:jef.crab@east-institute.org
END:VEVENT
BEGIN:VEVENT
DTSTART;TZID=Europe/Brussels:20260603T190000
DTEND;TZID=Europe/Brussels:20260603T220000
DTSTAMP:20260424T163242
CREATED:20260412T091037Z
LAST-MODIFIED:20260412T091037Z
UID:10000026-1780513200-1780524000@east-institute.org
SUMMARY:Kennisoverdracht en heling door klank en ervaring
DESCRIPTION:Tussen Belthane en Midzomer ontwaakt de rijzende zonnekracht: een oerstroom van vitaliteit\, helderheid en scheppende levenswil. \n  In deze heilige weken klimt het zonlicht elke dag hoger\, en met die groeiende lichtspanning worden ook onze eigen innerlijke vermogens aangescherpt: intuïtie wordt helderder\, creatiekracht stroomt vrijer en het hart opent zich voor vreugde\, verbondenheid en moed. Dit is de periode waarin plannen wortelschieten\, dromen richting krijgen en de ziel het vuur voelt om werkelijk tot bloei te komen. Wie zich in deze tijd afstemt op de zonnekracht\, leert niet alleen haar warmte te ontvangen\, maar ook die vurige levensimpuls te laten kiemen voor de eigen innerlijke kracht en ontwikkeling. \nSjamanen zijn bij uitstek de reizigers tussen de zichtbare en onzichtbare werelden\, maar ieder die dit wil kan dit ervaren. In deze avond maken we een eerste aanvang met De kracht van de rijzende kracht van de zon.  \nWelke menselijke vermogens zijn daarbij betrokken? Hoe kunnen we deze verder ontwikkelen?\nWat betekent dat voor mijn dagelijkse leven? \nVerwacht een avond van klank\, ervaring en diepe verbinding met oeroude kennis. \nBegeleiding: Jef Crab (Joshua Raven)   \n“Life is my hobby.” — Jef Crab\nEen levenslange bruggenbouwer tussen oude wijsheid en moderne bewustzijn. Jef bewandelt een unieke weg\, gevormd door decennia van onderdompeling in inheemse tradities\, sociaal en ecologisch engagement en spirituele praktijk. Geïnitieerd in het sjamanisme door Jóska Soós de Sóvar\, leeft hij sinds 1993 nabij het Amazonewoud en werkt nauw samen met inheemse gemeenschappen. \nOprichter van o.a.: \n– Training Centre La Rencontre \n– Stichting Ecosystem 2000 \n– E.A.S.T.  Institute vzw \n– ALIVE School \n– Taiji School De Witte Wolken \n– Şaman Akademi & Master Class Shamanism \n  \nOver sjamanisme \nHet sjamanisme is het oudste en meest omvattende kennissysteem van de mensheid.  Geschreven wortels gaan terug tot Centraal-Azië\, meer dan 5.000 jaar voor onze jaartelling. De orale overdracht is veel ouder.  De kennis werd en wordt nog altijd van leraar naar leerling overgedragen en is primair gebaseerd op ervaring. Het sjamanisme kent geen organisaties of structuren en past zich constant aan de tijd en omgeving aan. \nDe Şaman Akademi is dus slechts een mogelijkheid waardoor de mensen in deze nieuwe tijd met de oorspronkelijke kennis opnieuw in aanraking kunnen komen en zich hierin kunnen verdiepen.  Het symbool met het Orkhon-runenschrift en Tuplar / Táltos  zijn uitdrukking van diepste dankbaarheid en respect voor mijn leraren en de voorgangers in de kennis.
URL:https://east-institute.org/event/kennisoverdracht-en-heling-door-klank-en-ervaring-4/
LOCATION:Lemen huisje Vremde – Belgie\, Broederlozestraat 100\, Vremde\, 2531\, Belgium
CATEGORIES:Klankschalen
ATTACH;FMTTYPE=image/webp:https://east-institute.org/wp-content/uploads/2026/04/Belthane-01.webp
ORGANIZER;CN="Jef Crab":MAILTO:jef.crab@east-institute.org
END:VEVENT
BEGIN:VEVENT
DTSTART;TZID=Europe/Brussels:20260604T190000
DTEND;TZID=Europe/Brussels:20260604T220000
DTSTAMP:20260424T163242
CREATED:20260415T085554Z
LAST-MODIFIED:20260415T085554Z
UID:10000027-1780599600-1780610400@east-institute.org
SUMMARY:Kennisoverdracht en heling door klank en ervaring
DESCRIPTION:Tussen Belthane en Midzomer ontwaakt de rijzende zonnekracht: een oerstroom van vitaliteit\, helderheid en scheppende levenswil. \n  In deze heilige weken klimt het zonlicht elke dag hoger\, en met die groeiende lichtspanning worden ook onze eigen innerlijke vermogens aangescherpt: intuïtie wordt helderder\, creatiekracht stroomt vrijer en het hart opent zich voor vreugde\, verbondenheid en moed. Dit is de periode waarin plannen wortelschieten\, dromen richting krijgen en de ziel het vuur voelt om werkelijk tot bloei te komen. Wie zich in deze tijd afstemt op de zonnekracht\, leert niet alleen haar warmte te ontvangen\, maar ook die vurige levensimpuls te laten kiemen voor de eigen innerlijke kracht en ontwikkeling. \nSjamanen zijn bij uitstek de reizigers tussen de zichtbare en onzichtbare werelden\, maar ieder die dit wil kan dit ervaren. In deze avond maken we een eerste aanvang met De kracht van de rijzende kracht van de zon.  \nWelke menselijke vermogens zijn daarbij betrokken? Hoe kunnen we deze verder ontwikkelen?\nWat betekent dat voor mijn dagelijkse leven? \nVerwacht een avond van klank\, ervaring en diepe verbinding met oeroude kennis. \nBegeleiding: Jef Crab (Joshua Raven)   \n“Life is my hobby.” — Jef Crab\nEen levenslange bruggenbouwer tussen oude wijsheid en moderne bewustzijn. Jef bewandelt een unieke weg\, gevormd door decennia van onderdompeling in inheemse tradities\, sociaal en ecologisch engagement en spirituele praktijk. Geïnitieerd in het sjamanisme door Jóska Soós de Sóvar\, leeft hij sinds 1993 nabij het Amazonewoud en werkt nauw samen met inheemse gemeenschappen. \nOprichter van o.a.: \n– Training Centre La Rencontre \n– Stichting Ecosystem 2000 \n– E.A.S.T.  Institute vzw \n– ALIVE School \n– Taiji School De Witte Wolken \n– Şaman Akademi & Master Class Shamanism \n  \nOver sjamanisme \nHet sjamanisme is het oudste en meest omvattende kennissysteem van de mensheid.  Geschreven wortels gaan terug tot Centraal-Azië\, meer dan 5.000 jaar voor onze jaartelling. De orale overdracht is veel ouder.  De kennis werd en wordt nog altijd van leraar naar leerling overgedragen en is primair gebaseerd op ervaring. Het sjamanisme kent geen organisaties of structuren en past zich constant aan de tijd en omgeving aan. \nDe Şaman Akademi is dus slechts een mogelijkheid waardoor de mensen in deze nieuwe tijd met de oorspronkelijke kennis opnieuw in aanraking kunnen komen en zich hierin kunnen verdiepen.  Het symbool met het Orkhon-runenschrift en Tuplar / Táltos  zijn uitdrukking van diepste dankbaarheid en respect voor mijn leraren en de voorgangers in de kennis.
URL:https://east-institute.org/event/kennisoverdracht-en-heling-door-klank-en-ervaring-5/
LOCATION:Kemp – Mol\, Borgerhoutsedijk 219\, Mol\, 2400\, Belgium
CATEGORIES:Klankschalen
ATTACH;FMTTYPE=image/webp:https://east-institute.org/wp-content/uploads/2026/04/Belthane-01.webp
ORGANIZER;CN="Jef Crab":MAILTO:jef.crab@east-institute.org
END:VEVENT
BEGIN:VEVENT
DTSTART;TZID=Europe/Brussels:20260622T100000
DTEND;TZID=Europe/Brussels:20260622T130000
DTSTAMP:20260424T163242
CREATED:20260402T213709Z
LAST-MODIFIED:20260402T213709Z
UID:10000022-1782122400-1782133200@east-institute.org
SUMMARY:Familie opstelling
DESCRIPTION:In kleine groep onderzoeken we of ons energieverlies in bepaalde situaties verband houdt met onze familiegeschiedenis. Trauma’s in een vorige generatie kunnen immers zorgen voor blokkades in de energiestroom van de huidige generatie. Een familieopstelling maakt deze vaak onbewuste trauma’s zichtbaar. Deze bewustwording is een eerste stap naar het herstel van verbondenheid met onze voorouders. Wanneer de kracht van onze voorouders ongehinderd mag stromen ervaren we meer levenslust en vreugde.\n\nDe technieken van de E.A.S.T.methode worden hier gebruikt als ondersteuning in het transformatieproces.  Het wordt mogelijk in ‘het hier en nu’ anders te kijken naar dat wat ons remt.\n\nMeer info en inschrijving: Leen.vancamp@east-institute.org\n\n\nprijs: vrije bijdrage\, richtwaarde 35€
URL:https://east-institute.org/event/familie-opstelling-5/
LOCATION:Lemen huisje Vremde – Belgie\, Broederlozestraat 100\, Vremde\, 2531\, Belgium
CATEGORIES:Famillie Opstelling
ATTACH;FMTTYPE=image/webp:https://east-institute.org/wp-content/uploads/2026/01/Wat-doe-ik-hier-300x200-1.webp
ORGANIZER;CN="Leen Van Camp":MAILTO:leen.vancamp@east-institute.org
END:VEVENT
END:VCALENDAR